BEGIN:VCALENDAR
VERSION:2.0
PRODID:-//Se tremi sull&#039;orlo - ECPv6.15.16//NONSGML v1.0//EN
CALSCALE:GREGORIAN
METHOD:PUBLISH
X-ORIGINAL-URL:https://setremisullorlo.it
X-WR-CALDESC:Eventi per Se tremi sull&#039;orlo
REFRESH-INTERVAL;VALUE=DURATION:PT1H
X-Robots-Tag:noindex
X-PUBLISHED-TTL:PT1H
BEGIN:VTIMEZONE
TZID:Europe/Rome
BEGIN:DAYLIGHT
TZOFFSETFROM:+0100
TZOFFSETTO:+0200
TZNAME:CEST
DTSTART:20220327T010000
END:DAYLIGHT
BEGIN:STANDARD
TZOFFSETFROM:+0200
TZOFFSETTO:+0100
TZNAME:CET
DTSTART:20221030T010000
END:STANDARD
BEGIN:DAYLIGHT
TZOFFSETFROM:+0100
TZOFFSETTO:+0200
TZNAME:CEST
DTSTART:20230326T010000
END:DAYLIGHT
BEGIN:STANDARD
TZOFFSETFROM:+0200
TZOFFSETTO:+0100
TZNAME:CET
DTSTART:20231029T010000
END:STANDARD
BEGIN:DAYLIGHT
TZOFFSETFROM:+0100
TZOFFSETTO:+0200
TZNAME:CEST
DTSTART:20240331T010000
END:DAYLIGHT
BEGIN:STANDARD
TZOFFSETFROM:+0200
TZOFFSETTO:+0100
TZNAME:CET
DTSTART:20241027T010000
END:STANDARD
END:VTIMEZONE
BEGIN:VEVENT
DTSTART;TZID=Europe/Rome:20230312T100000
DTEND;TZID=Europe/Rome:20230312T170000
DTSTAMP:20260419T233651
CREATED:20230217T093630Z
LAST-MODIFIED:20231001T183214Z
UID:1403-1678615200-1678640400@setremisullorlo.it
SUMMARY:Camminata in consapevolezza nella Riserva Naturale Regionale di Monterano
DESCRIPTION:Domenica 12 marzo\, cammineremo insieme nella Riserva Naturale di Monterano. Ci accompagneranno la consapevolezza\, la natura con la sua bellezza\, il vento\, il sole\, i suoni\, il respiro e i nostri passi. In alcuni momenti del percorso Luciano\, esperto camminatore\, geologo e conoscitore delle montagne\, offrirà alcune descrizioni degli aspetti più interessanti del territorio. La pausa pranzo sarà un momento conviviale in cui condividere l’esperienza e assaporare il cibo. Riprenderemo la via del ritorno nuovamente in silenzio riaprendoci ai sensi. \nLa Riserva Naturale di Monterano copre poco più di 10\,8 km² (4 miglia quadrate) con una grande varietà di habitat e un’abbondante biodiversità: colline boscose\, gole vulcaniche con vegetazione tipica e felci rare\, prati e pascoli con le loro piante e animali tipici. Tutto questo splendido paesaggio è attraversato da numerosi torrenti tra cui il fiume Mignone ed è stato designato come uno dei Siti di Importanza Comunitaria\, che rappresentano il patrimonio naturale dell’intera Unione Europea nell’ambito della Rete Natura 2000. Un bel percorso ad anello che permette di vedere tutte le principali attrazioni offerte dalla natura e dalla storia: aree dove l’attività vulcanica è ancora visibile come pozze d’acqua piene di fumarole gassose di anidride carbonica e idrogeno solforato; l’ambiente ripariale estremamente affascinante del fiume Mignone; la cascata Diosilla\, una miniera di zolfo e carbonaie e\, se il tempo a nostra disposizione lo permette\, i ruderi dell’antica città di Monterano\, situata su un costone tufaceo che domina la gola del torrente Bicione\, paese che fu abbandonato nel 1799 dopo essere stato distrutto dalle truppe francesi\, con la via etrusca\, scavata nel tufo e che conduce all’ingresso dell’insediamento. \nDATI TECNICI \nGruppo montuoso di riferimento: Monti Sabatini \nMassima altitudine raggiungibile: 310 m slm \nDislivello: 250 m (difficoltà: Medio / Facile) \nKm totali da percorrere a piedi: 10\,5 km per un totale di ore 4 (soste escluse) \nAccompagnatore: Luciano Capeccioni – Guida Ambientale Escursionistica (socio A.I.G.A.E.)\, geologo \nAPPUNTAMENTO: Parcheggio della Diosilla  (Riserva Naturale Regionale di Monterano) ore 10:00 \nOrganizzazione SETREMISULLORLO: Ida Costa e Marco Iannelli – Mindfulness Teachers\nQuota di partecipazione: € 20\nCosa portare e abbigliamento:\nObbligatorio l’utilizzo di scarpe da trekking alte alla caviglia (NO Scarpe da ginnastica)\nZaino comodo adatto al trasporto del necessario per la giornata\nAbbigliamento idoneo ad una escursione (possibilmente vestirsi a strati). Necessario un capo impermeabile\, occhiali da sole\, un cappellino\, bastoncini (per chi ne fa uso).\nRaccomandato almeno 1\,5 litro d’acqua\, pranzo al sacco e snack energetici (frutta secca\, cioccolata\, barrette). 
URL:https://setremisullorlo.it/eventi/camminata-in-consapevolezza-nella-riserva-naturale-regionale-di-monterano/
LOCATION:Parcheggio della Diosilla\, Canale Monterano\, Roma\, 00060
CATEGORIES:Camminate consapevoli
ATTACH;FMTTYPE=image/jpeg:https://setremisullorlo.it/wp-content/uploads/2023/02/IMG-Canale-Monterano-20230312-WA0069-1.jpg
ORGANIZER;CN="Setremisullorlo":MAILTO:info@setremisullorlo.it
END:VEVENT
END:VCALENDAR