BEGIN:VCALENDAR
VERSION:2.0
PRODID:-//Se tremi sull&#039;orlo - ECPv6.15.16//NONSGML v1.0//EN
CALSCALE:GREGORIAN
METHOD:PUBLISH
X-WR-CALNAME:Se tremi sull&#039;orlo
X-ORIGINAL-URL:https://setremisullorlo.it
X-WR-CALDESC:Eventi per Se tremi sull&#039;orlo
REFRESH-INTERVAL;VALUE=DURATION:PT1H
X-Robots-Tag:noindex
X-PUBLISHED-TTL:PT1H
BEGIN:VTIMEZONE
TZID:Europe/Rome
BEGIN:DAYLIGHT
TZOFFSETFROM:+0100
TZOFFSETTO:+0200
TZNAME:CEST
DTSTART:20220327T010000
END:DAYLIGHT
BEGIN:STANDARD
TZOFFSETFROM:+0200
TZOFFSETTO:+0100
TZNAME:CET
DTSTART:20221030T010000
END:STANDARD
BEGIN:DAYLIGHT
TZOFFSETFROM:+0100
TZOFFSETTO:+0200
TZNAME:CEST
DTSTART:20230326T010000
END:DAYLIGHT
BEGIN:STANDARD
TZOFFSETFROM:+0200
TZOFFSETTO:+0100
TZNAME:CET
DTSTART:20231029T010000
END:STANDARD
BEGIN:DAYLIGHT
TZOFFSETFROM:+0100
TZOFFSETTO:+0200
TZNAME:CEST
DTSTART:20240331T010000
END:DAYLIGHT
BEGIN:STANDARD
TZOFFSETFROM:+0200
TZOFFSETTO:+0100
TZNAME:CET
DTSTART:20241027T010000
END:STANDARD
END:VTIMEZONE
BEGIN:VEVENT
DTSTART;TZID=Europe/Rome:20230207T200000
DTEND;TZID=Europe/Rome:20230207T220000
DTSTAMP:20260420T005205
CREATED:20230112T171808Z
LAST-MODIFIED:20231001T185745Z
UID:1369-1675800000-1675807200@setremisullorlo.it
SUMMARY:Saggezza filosofica e saggezza contemplativa: esercizi spirituali e meditazione di consapevolezza.
DESCRIPTION:“È vana la parola della filosofia se non è capace di curare alcuna passione umana. Come l’arte medica è inutile se non guarisce il corpo dai suoi mali\, così è inutile la filosofia se non libera l’anima dalle sue passioni”. Epicuro \n” Bhikku\, quando la parola ha cinque caratteristiche è ben detta\, non mal detta\, è irreprensibile e non è criticata dai saggi. Quali cinque? È detta al momento opportuno\, in accordo con i fatti\, con garbo\, utilmente\, con benevolenza”. Buddha \nIn questo laboratorio\, affronteremo i diversi modi in cui la saggezza antica ha declinato e coltivato la consapevolezza integrandola nella vita quotidiana attraverso pratiche e conseguenti scelte esistenziali. \nL’ellenismo greco romano con le sue scuole e proposte di pratiche filosofiche\, e il Buddhismo delle origini con la disciplina contemplativa\, saranno al centro degli incontri. In particolare esploreremo l’area dell’etica e quindi della parola\, dell’azione e i suoi riflessi nelle relazioni e nei comportamenti. \nInoltre vedremo come le tante intuizioni e proposte della saggezza antica hanno poi trovato conferma nella psicologia contemporanea e nelle neuroscienze soprattutto nell’area inerente alle emozioni. \nFondamentale sarà prendere la risoluzione di praticare con costanza sia la meditazione che gli esercizi proposti\, per meglio poterli “incarnare” nelle nostre giornate. Ampio spazio sarà dato alla possibilità di dialogo\, ascolto e confronto durante il corso\, alternando come sempre il silenzio e la parola. \nIl laboratorio inizia il 7 febbraio\, dalle ore 20 alle 22 articolato in 8 incontri a cadenza settimanale\, in presenza nei locali di Via Barbana\, 24 00142 Roma\, e/o piattaforma Zoom. Possono accedere coloro che hanno già partecipato ai nostri laboratori\, chi ha esperienza di meditazione di consapevolezza e chi ha portato a termine l’MBSR. \nDate laboratorio: – febbraio 7\, 14\, 21\, 28 – marzo 7\, 14\, 21\, 28 \nIl costo dell’intero corso è di euro 120 oneri inclusi. \nPagamento tramite bonifico bancario\, intestato a Ida Costa Iannelli\, iban: IT63Q0100503226000000015519  nella casuale scrivere “Laboratorio 7 febbraio 2023”. Seguirà link per accedere a Zoom. \nPer informazioni  \ntel. 3200220382    info@setremisullorlo.it
URL:https://setremisullorlo.it/eventi/il-7-febbraio-dalle-ore-20-alle22-in-presenza-e-o-su-piattaforma-zoom-laboratorio-esperienziale-saggezza-filosofica-e-saggezza-contemplativa/
LOCATION:Seleziona uno Stato:
CATEGORIES:Laboratori
ATTACH;FMTTYPE=image/jpeg:https://setremisullorlo.it/wp-content/uploads/2021/03/Foto-spazio-Luca-e1696182193508.jpg
ORGANIZER;CN="Setremisullorlo":MAILTO:info@setremisullorlo.it
END:VEVENT
END:VCALENDAR