BEGIN:VCALENDAR
VERSION:2.0
PRODID:-//Se tremi sull&#039;orlo - ECPv6.15.16//NONSGML v1.0//EN
CALSCALE:GREGORIAN
METHOD:PUBLISH
X-WR-CALNAME:Se tremi sull&#039;orlo
X-ORIGINAL-URL:https://setremisullorlo.it
X-WR-CALDESC:Eventi per Se tremi sull&#039;orlo
REFRESH-INTERVAL;VALUE=DURATION:PT1H
X-Robots-Tag:noindex
X-PUBLISHED-TTL:PT1H
BEGIN:VTIMEZONE
TZID:Europe/Rome
BEGIN:DAYLIGHT
TZOFFSETFROM:+0100
TZOFFSETTO:+0200
TZNAME:CEST
DTSTART:20210328T010000
END:DAYLIGHT
BEGIN:STANDARD
TZOFFSETFROM:+0200
TZOFFSETTO:+0100
TZNAME:CET
DTSTART:20211031T010000
END:STANDARD
BEGIN:DAYLIGHT
TZOFFSETFROM:+0100
TZOFFSETTO:+0200
TZNAME:CEST
DTSTART:20220327T010000
END:DAYLIGHT
BEGIN:STANDARD
TZOFFSETFROM:+0200
TZOFFSETTO:+0100
TZNAME:CET
DTSTART:20221030T010000
END:STANDARD
BEGIN:DAYLIGHT
TZOFFSETFROM:+0100
TZOFFSETTO:+0200
TZNAME:CEST
DTSTART:20230326T010000
END:DAYLIGHT
BEGIN:STANDARD
TZOFFSETFROM:+0200
TZOFFSETTO:+0100
TZNAME:CET
DTSTART:20231029T010000
END:STANDARD
END:VTIMEZONE
BEGIN:VEVENT
DTSTART;TZID=Europe/Rome:20220301T184500
DTEND;TZID=Europe/Rome:20220301T201500
DTSTAMP:20260422T150720
CREATED:20210831T155722Z
LAST-MODIFIED:20231001T183651Z
UID:794-1646160300-1646165700@setremisullorlo.it
SUMMARY:4° edizione Meditare insieme coltivando la mindfulness
DESCRIPTION:Un laboratorio mindfulness per principianti\nIl laboratorio mindfulness\, a partire da martedì 1 marzo 2022\, si articolerà in 6 incontri a cadenza settimanale\, dalle ore 18.45 alle 20.15 nei locali di via Barbana\, 22/24 . Sarà possibile partecipare sia in presenza che su piattaforma Zoom. \nQuello che proponiamo è un laboratorio di meditazione di consapevolezza-mindfulness per chi vuole iniziare a praticare questa disciplina. In una cornice intima e protetta\, empatica e accogliente\, coltivando la quiete\, incontreremo con gentilezza il momento presente. Così scopriremo che la mindfulness non è una semplice tecnica\, ma un modo di essere e di entrare in relazione con noi stessi e il mondo. \nIl mistero della consapevolezza è che è veramente al di là delle parole. È intrinseca al nostro essere. Tutti noi già la possediamo e ne siamo sempre in possesso.  Jon Kabat Zinn \nCosa faremo: \n\nPratiche guidate di mindfulness in gruppo e in coppia\nCondivisioni delle esperienze vissute durante il laboratorio e nella vita quotidiana\nSostegno alla mindfulness attraverso supporti cartacei e audio\nBibliografia essenziale di testi utili per sostenere approfondire aspetti e temi della meditazione mindfulness\n\nIl costo dell’intero corso è di  € 90 tasse incluse. \nPagamento tramite bonifico bancario intestato Ida Costa Iannelli\, iban: IT63Q0100503226000000015519 nella casuale scrivere “Laboratorio per principianti”. \nPer maggiori informazioni:\ntel. 3200220382 – info@setremisullorlo.it
URL:https://setremisullorlo.it/eventi/4-edizione-meditare-insieme-coltivare-la-quiete/
LOCATION:Seleziona uno Stato:
ATTACH;FMTTYPE=image/jpeg:https://setremisullorlo.it/wp-content/uploads/2021/03/Foto-spazio-Luca-e1696182193508.jpg
ORGANIZER;CN="Setremisullorlo":MAILTO:info@setremisullorlo.it
END:VEVENT
END:VCALENDAR