BEGIN:VCALENDAR
VERSION:2.0
PRODID:-//Se tremi sull&#039;orlo - ECPv6.15.16//NONSGML v1.0//EN
CALSCALE:GREGORIAN
METHOD:PUBLISH
X-ORIGINAL-URL:https://setremisullorlo.it
X-WR-CALDESC:Eventi per Se tremi sull&#039;orlo
REFRESH-INTERVAL;VALUE=DURATION:PT1H
X-Robots-Tag:noindex
X-PUBLISHED-TTL:PT1H
BEGIN:VTIMEZONE
TZID:Europe/Rome
BEGIN:DAYLIGHT
TZOFFSETFROM:+0100
TZOFFSETTO:+0200
TZNAME:CEST
DTSTART:20230326T010000
END:DAYLIGHT
BEGIN:STANDARD
TZOFFSETFROM:+0200
TZOFFSETTO:+0100
TZNAME:CET
DTSTART:20231029T010000
END:STANDARD
BEGIN:DAYLIGHT
TZOFFSETFROM:+0100
TZOFFSETTO:+0200
TZNAME:CEST
DTSTART:20240331T010000
END:DAYLIGHT
BEGIN:STANDARD
TZOFFSETFROM:+0200
TZOFFSETTO:+0100
TZNAME:CET
DTSTART:20241027T010000
END:STANDARD
BEGIN:DAYLIGHT
TZOFFSETFROM:+0100
TZOFFSETTO:+0200
TZNAME:CEST
DTSTART:20250330T010000
END:DAYLIGHT
BEGIN:STANDARD
TZOFFSETFROM:+0200
TZOFFSETTO:+0100
TZNAME:CET
DTSTART:20251026T010000
END:STANDARD
END:VTIMEZONE
BEGIN:VEVENT
DTSTART;TZID=Europe/Rome:20241124T093000
DTEND;TZID=Europe/Rome:20241124T160000
DTSTAMP:20260422T163935
CREATED:20240926T085226Z
LAST-MODIFIED:20240926T085537Z
UID:1712-1732440600-1732464000@setremisullorlo.it
SUMMARY:Camminata silenziosa\, in consapevolezza\, Riserva del Lago di Vico
DESCRIPTION:Domenica 24 novembre cammineremo insieme\, in silenzio\, nella Riserva Naturale del Lago di Vico\, intimi con la natura e la sua bellezza: il vento\, il sole\, l’acqua\, i suoni\, il respiro e i nostri passi. Brevi pause meditative guidate offriranno la possibilità di aprirci alla consapevolezza sensoriale e di “essere” più intimi con l’esperienza. \nLuciano Capeccioni\, esperto camminatore\, geologo e conoscitore delle montagne\, ci guiderà alla scoperta degli aspetti più interessanti del territorio. \nLa pausa pranzo sarà un momento conviviale in cui condividere l’esperienza e assaporare il cibo. Riprenderemo la via del ritorno tornando al silenzio riaprendoci ai sensi. \nItinerario ad anello all’interno del cratere dell’antico vulcano                                                                                                                      Percorso ad anello nella parte nord del lago ove è possibile ricostruire la storia di questo antico vulcano ed ammirare i panorami sul lago\, che riempie l’antico cratere. Buona occasione anche per effettuare osservazioni di birdwatching nella zona paludosa e visitare la faggeta “depressa”. \nDATI TECNICI\nGruppo montuoso di riferimento: Monti Cimini (prov. Viterbo – Lazio)\nMassima altitudine raggiungibile: 700 metri slm\nMassimo dislivello: 250 in salita\, 250 in discesa (medio/facile)\nKm totali da percorrere: 12 km\, per un totale di ore 4 (soste escluse)\nQuota di partecipazione: € 20\nCosa portare e abbigliamento:\nObbligatorio l’utilizzo di scarpe da trekking alte alla caviglia (NO Scarpe da ginnastica)\nZaino comodo adatto al trasporto del necessario per la giornata\nAbbigliamento idoneo ad una escursione (possibilmente vestirsi a strati). Necessario un capo impermeabile\, occhiali da sole\, un cappellino\, bastoncini (per chi ne fa uso).\nRaccomandato almeno 1\,5 litro d’acqua\, pranzo al sacco e snack energetici (frutta secca\, cioccolata\, barrette). Suggeriamo\, per chi lo desidera\, di portare binocolo per il Birdwatching. \nAPPUNTAMENTO: Lago di Vico area sosta Fontana di Canale ore 9:30\nCome arrivare\n\nPrendere il GRA ed uscire all’uscita 5\, Via Cassia Veientana (Cassia Bis)\nPercorrerla fino al km.41\, passato di poco il quale prendere a destra per la Via Cassia Cimina\, direzione Nepi – Ronciglione\nDopo circa 1 km prendere a sinistra direzione Ronciglione\nAggirare il paese di Ronciglione in direzione Viterbo; la strada\, dapprima in salita\, comincia a scendere e si giunge ad un incrocio con a destra il Ristorante “Rio Vicano”\nOltrepassare l’incrocio proseguendo diritti\, dopo circa 500 metri prendere a sinistra una stradina asfaltata con indicazione Ristorante “La Bella Venere”\, che scende verso il lago; dopo circa 200 metri si arriva ad un incrocio ove si prende a destra\nSeguire la stradina per circa 2 km fino ad un campeggio; qui si prende a destra direzione Monte Venere\, indicato da cartelli in legno\nAd un bivio successivo si va a sinistra (segnale di divieto di transito)\nGiungere fino ad un ampio piazzale dove si parcheggia; è il luogo di partenza della camminata/escursione\n\nAccompagnatore: Luciano Capeccioni – Guida Ambientale Escursionistica (socio A.I.G.A.E.)\, geologo. L’accompagnatore si riserva il diritto di annullare o modificare l’itinerario proposto a sua discrezione\, per garantire la sicurezza o in base alle condizioni del meteo e al numero dei partecipanti (max 30). \nOrganizzazione SETREMISULLORLO: Ida Costa e Marco Iannelli – Mindfulness Teachers \nPer prenotare: inviare mail a info@setremisullorlo.it \nPer ulteriori informazioni: tel. 3200220382 – 3299812971
URL:https://setremisullorlo.it/eventi/camminata-silenziosa-in-consapevolezza-riserva-del-lago-di-vico/
LOCATION:Lago di Vico area Fontana di Canale\, (VT)\, Italia
CATEGORIES:Camminate consapevoli
ATTACH;FMTTYPE=image/jpeg:https://setremisullorlo.it/wp-content/uploads/2024/09/Lago-di-Vico-compressa-2024-1.jpg
ORGANIZER;CN="Setremisullorlo":MAILTO:info@setremisullorlo.it
END:VEVENT
END:VCALENDAR